BEGIN:VCALENDAR
VERSION:2.0
PRODID:-//F.C. „Hoffnung“ Pilsum e.V. - ECPv6.15.16//NONSGML v1.0//EN
CALSCALE:GREGORIAN
METHOD:PUBLISH
X-WR-CALNAME:F.C. „Hoffnung“ Pilsum e.V.
X-ORIGINAL-URL:https://fc-pilsum.de
X-WR-CALDESC:Veranstaltungen für F.C. „Hoffnung“ Pilsum e.V.
REFRESH-INTERVAL;VALUE=DURATION:PT1H
X-Robots-Tag:noindex
X-PUBLISHED-TTL:PT1H
BEGIN:VTIMEZONE
TZID:Europe/Berlin
BEGIN:DAYLIGHT
TZOFFSETFROM:+0100
TZOFFSETTO:+0200
TZNAME:CEST
DTSTART:20230326T010000
END:DAYLIGHT
BEGIN:STANDARD
TZOFFSETFROM:+0200
TZOFFSETTO:+0100
TZNAME:CET
DTSTART:20231029T010000
END:STANDARD
BEGIN:DAYLIGHT
TZOFFSETFROM:+0100
TZOFFSETTO:+0200
TZNAME:CEST
DTSTART:20240331T010000
END:DAYLIGHT
BEGIN:STANDARD
TZOFFSETFROM:+0200
TZOFFSETTO:+0100
TZNAME:CET
DTSTART:20241027T010000
END:STANDARD
BEGIN:DAYLIGHT
TZOFFSETFROM:+0100
TZOFFSETTO:+0200
TZNAME:CEST
DTSTART:20250330T010000
END:DAYLIGHT
BEGIN:STANDARD
TZOFFSETFROM:+0200
TZOFFSETTO:+0100
TZNAME:CET
DTSTART:20251026T010000
END:STANDARD
END:VTIMEZONE
BEGIN:VEVENT
DTSTART;TZID=Europe/Berlin:20240628T190000
DTEND;TZID=Europe/Berlin:20240628T210000
DTSTAMP:20260421T122704
CREATED:20240320T073207Z
LAST-MODIFIED:20240321T081116Z
UID:882-1719601200-1719608400@fc-pilsum.de
SUMMARY:Tischtennis Training
DESCRIPTION:Jugend trainiert ab 17:30 Uhr
URL:https://fc-pilsum.de/termin/tischtennis-training-30/
LOCATION:Turnhalle Greetsiel
END:VEVENT
BEGIN:VEVENT
DTSTART;TZID=Europe/Berlin:20240625T170000
DTEND;TZID=Europe/Berlin:20240625T180000
DTSTAMP:20260421T122704
CREATED:20240317T075156Z
LAST-MODIFIED:20240321T075814Z
UID:730-1719334800-1719338400@fc-pilsum.de
SUMMARY:Damen Gymnastik
DESCRIPTION:
URL:https://fc-pilsum.de/termin/damen-gymnastik-15/
LOCATION:Sporthalle Greetsiel
END:VEVENT
BEGIN:VEVENT
DTSTART;TZID=Europe/Berlin:20240625T190000
DTEND;TZID=Europe/Berlin:20240625T210000
DTSTAMP:20260421T122704
CREATED:20240319T073601Z
LAST-MODIFIED:20240321T080717Z
UID:825-1719342000-1719349200@fc-pilsum.de
SUMMARY:Fußball Training
DESCRIPTION:
URL:https://fc-pilsum.de/termin/fussball-training-28/
LOCATION:Fußballplatz wechselnd
END:VEVENT
BEGIN:VEVENT
DTSTART;TZID=Europe/Berlin:20240625T190000
DTEND;TZID=Europe/Berlin:20240625T210000
DTSTAMP:20260421T122704
CREATED:20240320T073114Z
LAST-MODIFIED:20240321T081040Z
UID:880-1719342000-1719349200@fc-pilsum.de
SUMMARY:Tischtennis Training
DESCRIPTION:Jugend trainiert ab 17:30 Uhr
URL:https://fc-pilsum.de/termin/tischtennis-training-29/
LOCATION:Turnhalle Greetsiel
END:VEVENT
BEGIN:VEVENT
DTSTART;TZID=Europe/Berlin:20240627T190000
DTEND;TZID=Europe/Berlin:20240627T210000
DTSTAMP:20260421T122704
CREATED:20240319T073648Z
LAST-MODIFIED:20240321T080620Z
UID:827-1719514800-1719522000@fc-pilsum.de
SUMMARY:Fußball Training
DESCRIPTION:
URL:https://fc-pilsum.de/termin/fussball-training-29/
LOCATION:Fußballplatz wechselnd
END:VEVENT
BEGIN:VEVENT
DTSTART;TZID=Europe/Berlin:20241108T183000
DTEND;TZID=Europe/Berlin:20241108T200000
DTSTAMP:20260421T122704
CREATED:20240322T133253Z
LAST-MODIFIED:20240322T133254Z
UID:967-1731090600-1731096000@fc-pilsum.de
SUMMARY:"Der Weihnachtsmann in Pilsum"
DESCRIPTION:Vorbesprechung / Tradition seit 65 Jahren
URL:https://fc-pilsum.de/termin/der-weihnachtsmann-in-pilsum/
LOCATION:Vereinsheim
END:VEVENT
BEGIN:VEVENT
DTSTART;TZID=Europe/Berlin:20240628T190000
DTEND;TZID=Europe/Berlin:20240628T210000
DTSTAMP:20260421T122704
CREATED:20240320T073207Z
LAST-MODIFIED:20240321T081116Z
UID:882-1719601200-1719608400@fc-pilsum.de
SUMMARY:Tischtennis Training
DESCRIPTION:Jugend trainiert ab 17:30 Uhr
URL:https://fc-pilsum.de/termin/tischtennis-training-30/
LOCATION:Turnhalle Greetsiel
END:VEVENT
BEGIN:VEVENT
DTSTART;TZID=Europe/Berlin:20240625T170000
DTEND;TZID=Europe/Berlin:20240625T180000
DTSTAMP:20260421T122704
CREATED:20240317T075156Z
LAST-MODIFIED:20240321T075814Z
UID:730-1719334800-1719338400@fc-pilsum.de
SUMMARY:Damen Gymnastik
DESCRIPTION:
URL:https://fc-pilsum.de/termin/damen-gymnastik-15/
LOCATION:Sporthalle Greetsiel
END:VEVENT
BEGIN:VEVENT
DTSTART;TZID=Europe/Berlin:20240625T190000
DTEND;TZID=Europe/Berlin:20240625T210000
DTSTAMP:20260421T122704
CREATED:20240319T073601Z
LAST-MODIFIED:20240321T080717Z
UID:825-1719342000-1719349200@fc-pilsum.de
SUMMARY:Fußball Training
DESCRIPTION:
URL:https://fc-pilsum.de/termin/fussball-training-28/
LOCATION:Fußballplatz wechselnd
END:VEVENT
BEGIN:VEVENT
DTSTART;TZID=Europe/Berlin:20240625T190000
DTEND;TZID=Europe/Berlin:20240625T210000
DTSTAMP:20260421T122704
CREATED:20240320T073114Z
LAST-MODIFIED:20240321T081040Z
UID:880-1719342000-1719349200@fc-pilsum.de
SUMMARY:Tischtennis Training
DESCRIPTION:Jugend trainiert ab 17:30 Uhr
URL:https://fc-pilsum.de/termin/tischtennis-training-29/
LOCATION:Turnhalle Greetsiel
END:VEVENT
BEGIN:VEVENT
DTSTART;TZID=Europe/Berlin:20241113T200000
DTEND;TZID=Europe/Berlin:20241113T220000
DTSTAMP:20260421T122704
CREATED:20240901T112107Z
LAST-MODIFIED:20240901T112108Z
UID:1374-1731528000-1731535200@fc-pilsum.de
SUMMARY:Tischtennis 1. Herren
DESCRIPTION:FC Schwarz-Weiß Loquard III – SG Greetsiel/Pilsum
URL:https://fc-pilsum.de/termin/tischtennis-1-herren-5/
LOCATION:Loquard
END:VEVENT
BEGIN:VEVENT
DTSTART;TZID=Europe/Berlin:20240627T190000
DTEND;TZID=Europe/Berlin:20240627T210000
DTSTAMP:20260421T122704
CREATED:20240319T073648Z
LAST-MODIFIED:20240321T080620Z
UID:827-1719514800-1719522000@fc-pilsum.de
SUMMARY:Fußball Training
DESCRIPTION:
URL:https://fc-pilsum.de/termin/fussball-training-29/
LOCATION:Fußballplatz wechselnd
END:VEVENT
BEGIN:VEVENT
DTSTART;TZID=Europe/Berlin:20240628T190000
DTEND;TZID=Europe/Berlin:20240628T210000
DTSTAMP:20260421T122704
CREATED:20240320T073207Z
LAST-MODIFIED:20240321T081116Z
UID:882-1719601200-1719608400@fc-pilsum.de
SUMMARY:Tischtennis Training
DESCRIPTION:Jugend trainiert ab 17:30 Uhr
URL:https://fc-pilsum.de/termin/tischtennis-training-30/
LOCATION:Turnhalle Greetsiel
END:VEVENT
BEGIN:VEVENT
DTSTART;TZID=Europe/Berlin:20240625T170000
DTEND;TZID=Europe/Berlin:20240625T180000
DTSTAMP:20260421T122704
CREATED:20240317T075156Z
LAST-MODIFIED:20240321T075814Z
UID:730-1719334800-1719338400@fc-pilsum.de
SUMMARY:Damen Gymnastik
DESCRIPTION:
URL:https://fc-pilsum.de/termin/damen-gymnastik-15/
LOCATION:Sporthalle Greetsiel
END:VEVENT
BEGIN:VEVENT
DTSTART;TZID=Europe/Berlin:20240625T190000
DTEND;TZID=Europe/Berlin:20240625T210000
DTSTAMP:20260421T122704
CREATED:20240319T073601Z
LAST-MODIFIED:20240321T080717Z
UID:825-1719342000-1719349200@fc-pilsum.de
SUMMARY:Fußball Training
DESCRIPTION:
URL:https://fc-pilsum.de/termin/fussball-training-28/
LOCATION:Fußballplatz wechselnd
END:VEVENT
BEGIN:VEVENT
DTSTART;TZID=Europe/Berlin:20240625T190000
DTEND;TZID=Europe/Berlin:20240625T210000
DTSTAMP:20260421T122704
CREATED:20240320T073114Z
LAST-MODIFIED:20240321T081040Z
UID:880-1719342000-1719349200@fc-pilsum.de
SUMMARY:Tischtennis Training
DESCRIPTION:Jugend trainiert ab 17:30 Uhr
URL:https://fc-pilsum.de/termin/tischtennis-training-29/
LOCATION:Turnhalle Greetsiel
END:VEVENT
BEGIN:VEVENT
DTSTART;TZID=Europe/Berlin:20240627T190000
DTEND;TZID=Europe/Berlin:20240627T210000
DTSTAMP:20260421T122704
CREATED:20240319T073648Z
LAST-MODIFIED:20240321T080620Z
UID:827-1719514800-1719522000@fc-pilsum.de
SUMMARY:Fußball Training
DESCRIPTION:
URL:https://fc-pilsum.de/termin/fussball-training-29/
LOCATION:Fußballplatz wechselnd
END:VEVENT
BEGIN:VEVENT
DTSTART;TZID=Europe/Berlin:20240628T190000
DTEND;TZID=Europe/Berlin:20240628T210000
DTSTAMP:20260421T122704
CREATED:20240320T073207Z
LAST-MODIFIED:20240321T081116Z
UID:882-1719601200-1719608400@fc-pilsum.de
SUMMARY:Tischtennis Training
DESCRIPTION:Jugend trainiert ab 17:30 Uhr
URL:https://fc-pilsum.de/termin/tischtennis-training-30/
LOCATION:Turnhalle Greetsiel
END:VEVENT
BEGIN:VEVENT
DTSTART;TZID=Europe/Berlin:20241122T193000
DTEND;TZID=Europe/Berlin:20241122T213000
DTSTAMP:20260421T122704
CREATED:20240901T112224Z
LAST-MODIFIED:20240901T112224Z
UID:1378-1732303800-1732311000@fc-pilsum.de
SUMMARY:Tischtennis 1. Herren
DESCRIPTION:SG Greetsiel/Pilsum – BSV Kickers Emden
URL:https://fc-pilsum.de/termin/tischtennis-1-herren-6/
LOCATION:Turnhalle Greetsiel
END:VEVENT
BEGIN:VEVENT
DTSTART;TZID=Europe/Berlin:20240625T170000
DTEND;TZID=Europe/Berlin:20240625T180000
DTSTAMP:20260421T122704
CREATED:20240317T075156Z
LAST-MODIFIED:20240321T075814Z
UID:730-1719334800-1719338400@fc-pilsum.de
SUMMARY:Damen Gymnastik
DESCRIPTION:
URL:https://fc-pilsum.de/termin/damen-gymnastik-15/
LOCATION:Sporthalle Greetsiel
END:VEVENT
BEGIN:VEVENT
DTSTART;TZID=Europe/Berlin:20240625T190000
DTEND;TZID=Europe/Berlin:20240625T210000
DTSTAMP:20260421T122704
CREATED:20240319T073601Z
LAST-MODIFIED:20240321T080717Z
UID:825-1719342000-1719349200@fc-pilsum.de
SUMMARY:Fußball Training
DESCRIPTION:
URL:https://fc-pilsum.de/termin/fussball-training-28/
LOCATION:Fußballplatz wechselnd
END:VEVENT
BEGIN:VEVENT
DTSTART;TZID=Europe/Berlin:20240625T190000
DTEND;TZID=Europe/Berlin:20240625T210000
DTSTAMP:20260421T122704
CREATED:20240320T073114Z
LAST-MODIFIED:20240321T081040Z
UID:880-1719342000-1719349200@fc-pilsum.de
SUMMARY:Tischtennis Training
DESCRIPTION:Jugend trainiert ab 17:30 Uhr
URL:https://fc-pilsum.de/termin/tischtennis-training-29/
LOCATION:Turnhalle Greetsiel
END:VEVENT
BEGIN:VEVENT
DTSTART;TZID=Europe/Berlin:20240627T190000
DTEND;TZID=Europe/Berlin:20240627T210000
DTSTAMP:20260421T122704
CREATED:20240319T073648Z
LAST-MODIFIED:20240321T080620Z
UID:827-1719514800-1719522000@fc-pilsum.de
SUMMARY:Fußball Training
DESCRIPTION:
URL:https://fc-pilsum.de/termin/fussball-training-29/
LOCATION:Fußballplatz wechselnd
END:VEVENT
BEGIN:VEVENT
DTSTART;TZID=Europe/Berlin:20240628T190000
DTEND;TZID=Europe/Berlin:20240628T210000
DTSTAMP:20260421T122704
CREATED:20240320T073207Z
LAST-MODIFIED:20240321T081116Z
UID:882-1719601200-1719608400@fc-pilsum.de
SUMMARY:Tischtennis Training
DESCRIPTION:Jugend trainiert ab 17:30 Uhr
URL:https://fc-pilsum.de/termin/tischtennis-training-30/
LOCATION:Turnhalle Greetsiel
END:VEVENT
BEGIN:VEVENT
DTSTART;TZID=Europe/Berlin:20241129T193000
DTEND;TZID=Europe/Berlin:20241129T213000
DTSTAMP:20260421T122704
CREATED:20240901T112332Z
LAST-MODIFIED:20240901T112332Z
UID:1380-1732908600-1732915800@fc-pilsum.de
SUMMARY:Tischtennis 1. Herren
DESCRIPTION:SG Greetsiel/Pilsum – TTV Widdelswehr
URL:https://fc-pilsum.de/termin/tischtennis-1-herren-7/
LOCATION:Turnhalle Greetsiel
END:VEVENT
END:VCALENDAR