BEGIN:VCALENDAR
VERSION:2.0
PRODID:-//F.C. „Hoffnung“ Pilsum e.V. - ECPv6.15.16//NONSGML v1.0//EN
CALSCALE:GREGORIAN
METHOD:PUBLISH
X-ORIGINAL-URL:https://fc-pilsum.de
X-WR-CALDESC:Veranstaltungen für F.C. „Hoffnung“ Pilsum e.V.
REFRESH-INTERVAL;VALUE=DURATION:PT1H
X-Robots-Tag:noindex
X-PUBLISHED-TTL:PT1H
BEGIN:VTIMEZONE
TZID:Europe/Berlin
BEGIN:DAYLIGHT
TZOFFSETFROM:+0100
TZOFFSETTO:+0200
TZNAME:CEST
DTSTART:20230326T010000
END:DAYLIGHT
BEGIN:STANDARD
TZOFFSETFROM:+0200
TZOFFSETTO:+0100
TZNAME:CET
DTSTART:20231029T010000
END:STANDARD
BEGIN:DAYLIGHT
TZOFFSETFROM:+0100
TZOFFSETTO:+0200
TZNAME:CEST
DTSTART:20240331T010000
END:DAYLIGHT
BEGIN:STANDARD
TZOFFSETFROM:+0200
TZOFFSETTO:+0100
TZNAME:CET
DTSTART:20241027T010000
END:STANDARD
BEGIN:DAYLIGHT
TZOFFSETFROM:+0100
TZOFFSETTO:+0200
TZNAME:CEST
DTSTART:20250330T010000
END:DAYLIGHT
BEGIN:STANDARD
TZOFFSETFROM:+0200
TZOFFSETTO:+0100
TZNAME:CET
DTSTART:20251026T010000
END:STANDARD
END:VTIMEZONE
BEGIN:VEVENT
DTSTART;TZID=Europe/Berlin:20240627T190000
DTEND;TZID=Europe/Berlin:20240627T210000
DTSTAMP:20260421T173459
CREATED:20240319T073648Z
LAST-MODIFIED:20240321T080620Z
UID:827-1719514800-1719522000@fc-pilsum.de
SUMMARY:Fußball Training
DESCRIPTION:
URL:https://fc-pilsum.de/termin/fussball-training-29/
LOCATION:Fußballplatz wechselnd
END:VEVENT
BEGIN:VEVENT
DTSTART;TZID=Europe/Berlin:20240802T180000
DTEND;TZID=Europe/Berlin:20240802T210000
DTSTAMP:20260421T173459
CREATED:20240731T103800Z
LAST-MODIFIED:20240731T103801Z
UID:1279-1722621600-1722632400@fc-pilsum.de
SUMMARY:Boule Training
DESCRIPTION:
URL:https://fc-pilsum.de/termin/boule-training-6/
LOCATION:Sportplatz
END:VEVENT
BEGIN:VEVENT
DTSTART;TZID=Europe/Berlin:20240628T190000
DTEND;TZID=Europe/Berlin:20240628T210000
DTSTAMP:20260421T173459
CREATED:20240320T073207Z
LAST-MODIFIED:20240321T081116Z
UID:882-1719601200-1719608400@fc-pilsum.de
SUMMARY:Tischtennis Training
DESCRIPTION:Jugend trainiert ab 17:30 Uhr
URL:https://fc-pilsum.de/termin/tischtennis-training-30/
LOCATION:Turnhalle Greetsiel
END:VEVENT
BEGIN:VEVENT
DTSTART;TZID=Europe/Berlin:20240625T170000
DTEND;TZID=Europe/Berlin:20240625T180000
DTSTAMP:20260421T173459
CREATED:20240317T075156Z
LAST-MODIFIED:20240321T075814Z
UID:730-1719334800-1719338400@fc-pilsum.de
SUMMARY:Damen Gymnastik
DESCRIPTION:
URL:https://fc-pilsum.de/termin/damen-gymnastik-15/
LOCATION:Sporthalle Greetsiel
END:VEVENT
BEGIN:VEVENT
DTSTART;TZID=Europe/Berlin:20240625T190000
DTEND;TZID=Europe/Berlin:20240625T210000
DTSTAMP:20260421T173459
CREATED:20240319T073601Z
LAST-MODIFIED:20240321T080717Z
UID:825-1719342000-1719349200@fc-pilsum.de
SUMMARY:Fußball Training
DESCRIPTION:
URL:https://fc-pilsum.de/termin/fussball-training-28/
LOCATION:Fußballplatz wechselnd
END:VEVENT
BEGIN:VEVENT
DTSTART;TZID=Europe/Berlin:20240625T190000
DTEND;TZID=Europe/Berlin:20240625T210000
DTSTAMP:20260421T173459
CREATED:20240320T073114Z
LAST-MODIFIED:20240321T081040Z
UID:880-1719342000-1719349200@fc-pilsum.de
SUMMARY:Tischtennis Training
DESCRIPTION:Jugend trainiert ab 17:30 Uhr
URL:https://fc-pilsum.de/termin/tischtennis-training-29/
LOCATION:Turnhalle Greetsiel
END:VEVENT
BEGIN:VEVENT
DTSTART;TZID=Europe/Berlin:20240626T190000
DTEND;TZID=Europe/Berlin:20240626T210000
DTSTAMP:20260421T173459
CREATED:20240320T073636Z
LAST-MODIFIED:20240523T055918Z
UID:884-1719428400-1719435600@fc-pilsum.de
SUMMARY:Murmel Training
DESCRIPTION:
URL:https://fc-pilsum.de/termin/murmel-training/
LOCATION:Sportplatz
END:VEVENT
BEGIN:VEVENT
DTSTART;TZID=Europe/Berlin:20240627T190000
DTEND;TZID=Europe/Berlin:20240627T210000
DTSTAMP:20260421T173459
CREATED:20240319T073648Z
LAST-MODIFIED:20240321T080620Z
UID:827-1719514800-1719522000@fc-pilsum.de
SUMMARY:Fußball Training
DESCRIPTION:
URL:https://fc-pilsum.de/termin/fussball-training-29/
LOCATION:Fußballplatz wechselnd
END:VEVENT
BEGIN:VEVENT
DTSTART;TZID=Europe/Berlin:20240809T180000
DTEND;TZID=Europe/Berlin:20240809T210000
DTSTAMP:20260421T173459
CREATED:20240731T103851Z
LAST-MODIFIED:20240731T103851Z
UID:1281-1723226400-1723237200@fc-pilsum.de
SUMMARY:Boule Training
DESCRIPTION:
URL:https://fc-pilsum.de/termin/boule-training-8/
LOCATION:Sportplatz
END:VEVENT
BEGIN:VEVENT
DTSTART;TZID=Europe/Berlin:20240628T190000
DTEND;TZID=Europe/Berlin:20240628T210000
DTSTAMP:20260421T173459
CREATED:20240320T073207Z
LAST-MODIFIED:20240321T081116Z
UID:882-1719601200-1719608400@fc-pilsum.de
SUMMARY:Tischtennis Training
DESCRIPTION:Jugend trainiert ab 17:30 Uhr
URL:https://fc-pilsum.de/termin/tischtennis-training-30/
LOCATION:Turnhalle Greetsiel
END:VEVENT
BEGIN:VEVENT
DTSTART;TZID=Europe/Berlin:20240810T140000
DTEND;TZID=Europe/Berlin:20240811T143000
DTSTAMP:20260421T173459
CREATED:20240322T132234Z
LAST-MODIFIED:20240731T103359Z
UID:958-1723298400-1723386600@fc-pilsum.de
SUMMARY:Hafenfest Pilsum
DESCRIPTION:
URL:https://fc-pilsum.de/termin/hafenfest-pilsum/
LOCATION:Bootjehafen
END:VEVENT
BEGIN:VEVENT
DTSTART;TZID=Europe/Berlin:20240625T170000
DTEND;TZID=Europe/Berlin:20240625T180000
DTSTAMP:20260421T173459
CREATED:20240317T075156Z
LAST-MODIFIED:20240321T075814Z
UID:730-1719334800-1719338400@fc-pilsum.de
SUMMARY:Damen Gymnastik
DESCRIPTION:
URL:https://fc-pilsum.de/termin/damen-gymnastik-15/
LOCATION:Sporthalle Greetsiel
END:VEVENT
BEGIN:VEVENT
DTSTART;TZID=Europe/Berlin:20240625T190000
DTEND;TZID=Europe/Berlin:20240625T210000
DTSTAMP:20260421T173459
CREATED:20240319T073601Z
LAST-MODIFIED:20240321T080717Z
UID:825-1719342000-1719349200@fc-pilsum.de
SUMMARY:Fußball Training
DESCRIPTION:
URL:https://fc-pilsum.de/termin/fussball-training-28/
LOCATION:Fußballplatz wechselnd
END:VEVENT
BEGIN:VEVENT
DTSTART;TZID=Europe/Berlin:20240625T190000
DTEND;TZID=Europe/Berlin:20240625T210000
DTSTAMP:20260421T173459
CREATED:20240320T073114Z
LAST-MODIFIED:20240321T081040Z
UID:880-1719342000-1719349200@fc-pilsum.de
SUMMARY:Tischtennis Training
DESCRIPTION:Jugend trainiert ab 17:30 Uhr
URL:https://fc-pilsum.de/termin/tischtennis-training-29/
LOCATION:Turnhalle Greetsiel
END:VEVENT
BEGIN:VEVENT
DTSTART;TZID=Europe/Berlin:20240814T190000
DTEND;TZID=Europe/Berlin:20240814T210000
DTSTAMP:20260421T173459
CREATED:20240605T055328Z
LAST-MODIFIED:20240605T055329Z
UID:1195-1723662000-1723669200@fc-pilsum.de
SUMMARY:Vorstandssitzung
DESCRIPTION:
URL:https://fc-pilsum.de/termin/vorstandssitzung-6/
LOCATION:Vereinsheim
END:VEVENT
BEGIN:VEVENT
DTSTART;TZID=Europe/Berlin:20240814T190000
DTEND;TZID=Europe/Berlin:20240814T210000
DTSTAMP:20260421T173459
CREATED:20240812T090621Z
LAST-MODIFIED:20240812T090622Z
UID:1336-1723662000-1723669200@fc-pilsum.de
SUMMARY:Murmel Training
DESCRIPTION:
URL:https://fc-pilsum.de/termin/murmel-training-4/
LOCATION:Sportplatz
END:VEVENT
BEGIN:VEVENT
DTSTART;TZID=Europe/Berlin:20240627T190000
DTEND;TZID=Europe/Berlin:20240627T210000
DTSTAMP:20260421T173459
CREATED:20240319T073648Z
LAST-MODIFIED:20240321T080620Z
UID:827-1719514800-1719522000@fc-pilsum.de
SUMMARY:Fußball Training
DESCRIPTION:
URL:https://fc-pilsum.de/termin/fussball-training-29/
LOCATION:Fußballplatz wechselnd
END:VEVENT
BEGIN:VEVENT
DTSTART;TZID=Europe/Berlin:20240816T180000
DTEND;TZID=Europe/Berlin:20240816T210000
DTSTAMP:20260421T173459
CREATED:20240731T103942Z
LAST-MODIFIED:20240731T103942Z
UID:1283-1723831200-1723842000@fc-pilsum.de
SUMMARY:Boule Training
DESCRIPTION:
URL:https://fc-pilsum.de/termin/boule-training-10/
LOCATION:Sportplatz
END:VEVENT
BEGIN:VEVENT
DTSTART;TZID=Europe/Berlin:20240628T190000
DTEND;TZID=Europe/Berlin:20240628T210000
DTSTAMP:20260421T173459
CREATED:20240320T073207Z
LAST-MODIFIED:20240321T081116Z
UID:882-1719601200-1719608400@fc-pilsum.de
SUMMARY:Tischtennis Training
DESCRIPTION:Jugend trainiert ab 17:30 Uhr
URL:https://fc-pilsum.de/termin/tischtennis-training-30/
LOCATION:Turnhalle Greetsiel
END:VEVENT
BEGIN:VEVENT
DTSTART;TZID=Europe/Berlin:20240817T140000
DTEND;TZID=Europe/Berlin:20240817T180000
DTSTAMP:20260421T173459
CREATED:20240514T123107Z
LAST-MODIFIED:20240514T123108Z
UID:1095-1723903200-1723917600@fc-pilsum.de
SUMMARY:Fahrradtour
DESCRIPTION:
URL:https://fc-pilsum.de/termin/fahrradtour/
LOCATION:Sportplatz
END:VEVENT
BEGIN:VEVENT
DTSTART;TZID=Europe/Berlin:20240625T170000
DTEND;TZID=Europe/Berlin:20240625T180000
DTSTAMP:20260421T173459
CREATED:20240317T075156Z
LAST-MODIFIED:20240321T075814Z
UID:730-1719334800-1719338400@fc-pilsum.de
SUMMARY:Damen Gymnastik
DESCRIPTION:
URL:https://fc-pilsum.de/termin/damen-gymnastik-15/
LOCATION:Sporthalle Greetsiel
END:VEVENT
BEGIN:VEVENT
DTSTART;TZID=Europe/Berlin:20240625T190000
DTEND;TZID=Europe/Berlin:20240625T210000
DTSTAMP:20260421T173459
CREATED:20240319T073601Z
LAST-MODIFIED:20240321T080717Z
UID:825-1719342000-1719349200@fc-pilsum.de
SUMMARY:Fußball Training
DESCRIPTION:
URL:https://fc-pilsum.de/termin/fussball-training-28/
LOCATION:Fußballplatz wechselnd
END:VEVENT
BEGIN:VEVENT
DTSTART;TZID=Europe/Berlin:20240625T190000
DTEND;TZID=Europe/Berlin:20240625T210000
DTSTAMP:20260421T173459
CREATED:20240320T073114Z
LAST-MODIFIED:20240321T081040Z
UID:880-1719342000-1719349200@fc-pilsum.de
SUMMARY:Tischtennis Training
DESCRIPTION:Jugend trainiert ab 17:30 Uhr
URL:https://fc-pilsum.de/termin/tischtennis-training-29/
LOCATION:Turnhalle Greetsiel
END:VEVENT
BEGIN:VEVENT
DTSTART;TZID=Europe/Berlin:20240814T190000
DTEND;TZID=Europe/Berlin:20240814T210000
DTSTAMP:20260421T173459
CREATED:20240812T090621Z
LAST-MODIFIED:20240812T090622Z
UID:1336-1723662000-1723669200@fc-pilsum.de
SUMMARY:Murmel Training
DESCRIPTION:
URL:https://fc-pilsum.de/termin/murmel-training-4/
LOCATION:Sportplatz
END:VEVENT
BEGIN:VEVENT
DTSTART;TZID=Europe/Berlin:20240627T190000
DTEND;TZID=Europe/Berlin:20240627T210000
DTSTAMP:20260421T173459
CREATED:20240319T073648Z
LAST-MODIFIED:20240321T080620Z
UID:827-1719514800-1719522000@fc-pilsum.de
SUMMARY:Fußball Training
DESCRIPTION:
URL:https://fc-pilsum.de/termin/fussball-training-29/
LOCATION:Fußballplatz wechselnd
END:VEVENT
BEGIN:VEVENT
DTSTART;TZID=Europe/Berlin:20240823T180000
DTEND;TZID=Europe/Berlin:20240823T210000
DTSTAMP:20260421T173459
CREATED:20240731T104024Z
LAST-MODIFIED:20240731T104024Z
UID:1285-1724436000-1724446800@fc-pilsum.de
SUMMARY:Boule Training
DESCRIPTION:
URL:https://fc-pilsum.de/termin/boule-training-12/
LOCATION:Sportplatz
END:VEVENT
BEGIN:VEVENT
DTSTART;TZID=Europe/Berlin:20240628T190000
DTEND;TZID=Europe/Berlin:20240628T210000
DTSTAMP:20260421T173459
CREATED:20240320T073207Z
LAST-MODIFIED:20240321T081116Z
UID:882-1719601200-1719608400@fc-pilsum.de
SUMMARY:Tischtennis Training
DESCRIPTION:Jugend trainiert ab 17:30 Uhr
URL:https://fc-pilsum.de/termin/tischtennis-training-30/
LOCATION:Turnhalle Greetsiel
END:VEVENT
BEGIN:VEVENT
DTSTART;TZID=Europe/Berlin:20240824T140000
DTEND;TZID=Europe/Berlin:20240824T180000
DTSTAMP:20260421T173459
CREATED:20240514T123216Z
LAST-MODIFIED:20240514T123217Z
UID:1097-1724508000-1724522400@fc-pilsum.de
SUMMARY:Fahrradtour
DESCRIPTION:
URL:https://fc-pilsum.de/termin/fahrradtour-2/
LOCATION:Sportplatz
END:VEVENT
BEGIN:VEVENT
DTSTART;TZID=Europe/Berlin:20240625T170000
DTEND;TZID=Europe/Berlin:20240625T180000
DTSTAMP:20260421T173459
CREATED:20240317T075156Z
LAST-MODIFIED:20240321T075814Z
UID:730-1719334800-1719338400@fc-pilsum.de
SUMMARY:Damen Gymnastik
DESCRIPTION:
URL:https://fc-pilsum.de/termin/damen-gymnastik-15/
LOCATION:Sporthalle Greetsiel
END:VEVENT
BEGIN:VEVENT
DTSTART;TZID=Europe/Berlin:20240625T190000
DTEND;TZID=Europe/Berlin:20240625T210000
DTSTAMP:20260421T173459
CREATED:20240319T073601Z
LAST-MODIFIED:20240321T080717Z
UID:825-1719342000-1719349200@fc-pilsum.de
SUMMARY:Fußball Training
DESCRIPTION:
URL:https://fc-pilsum.de/termin/fussball-training-28/
LOCATION:Fußballplatz wechselnd
END:VEVENT
END:VCALENDAR