BEGIN:VCALENDAR
VERSION:2.0
PRODID:-//F.C. „Hoffnung“ Pilsum e.V. - ECPv6.15.16//NONSGML v1.0//EN
CALSCALE:GREGORIAN
METHOD:PUBLISH
X-ORIGINAL-URL:https://fc-pilsum.de
X-WR-CALDESC:Veranstaltungen für F.C. „Hoffnung“ Pilsum e.V.
REFRESH-INTERVAL;VALUE=DURATION:PT1H
X-Robots-Tag:noindex
X-PUBLISHED-TTL:PT1H
BEGIN:VTIMEZONE
TZID:Europe/Berlin
BEGIN:DAYLIGHT
TZOFFSETFROM:+0100
TZOFFSETTO:+0200
TZNAME:CEST
DTSTART:20230326T010000
END:DAYLIGHT
BEGIN:STANDARD
TZOFFSETFROM:+0200
TZOFFSETTO:+0100
TZNAME:CET
DTSTART:20231029T010000
END:STANDARD
BEGIN:DAYLIGHT
TZOFFSETFROM:+0100
TZOFFSETTO:+0200
TZNAME:CEST
DTSTART:20240331T010000
END:DAYLIGHT
BEGIN:STANDARD
TZOFFSETFROM:+0200
TZOFFSETTO:+0100
TZNAME:CET
DTSTART:20241027T010000
END:STANDARD
BEGIN:DAYLIGHT
TZOFFSETFROM:+0100
TZOFFSETTO:+0200
TZNAME:CEST
DTSTART:20250330T010000
END:DAYLIGHT
BEGIN:STANDARD
TZOFFSETFROM:+0200
TZOFFSETTO:+0100
TZNAME:CET
DTSTART:20251026T010000
END:STANDARD
END:VTIMEZONE
BEGIN:VEVENT
DTSTART;TZID=Europe/Berlin:20240430T170000
DTEND;TZID=Europe/Berlin:20240501T003000
DTSTAMP:20260421T160946
CREATED:20240404T142602Z
LAST-MODIFIED:20240404T142713Z
UID:1010-1714496400-1714523400@fc-pilsum.de
SUMMARY:1. Maifeier
DESCRIPTION:FC Pilsum übernimmt erstmalig den Bierwagen
URL:https://fc-pilsum.de/termin/1-maifeier/
LOCATION:Schulplatz Pilsum
END:VEVENT
BEGIN:VEVENT
DTSTART;TZID=Europe/Berlin:20240501T000000
DTEND;TZID=Europe/Berlin:20240501T235959
DTSTAMP:20260421T160946
CREATED:20240311T065624Z
LAST-MODIFIED:20240315T174957Z
UID:400-1714521600-1714607999@fc-pilsum.de
SUMMARY:Tag der Arbeit
DESCRIPTION:Feiertags ist das Vereinsheim geschlossen und es findet kein Training statt
URL:https://fc-pilsum.de/termin/tag-der-arbeit/
LOCATION:Sportplatz
END:VEVENT
BEGIN:VEVENT
DTSTART;TZID=Europe/Berlin:20240502T190000
DTEND;TZID=Europe/Berlin:20240502T210000
DTSTAMP:20260421T160946
CREATED:20240318T115845Z
LAST-MODIFIED:20240318T120042Z
UID:787-1714676400-1714683600@fc-pilsum.de
SUMMARY:Fußball Training
DESCRIPTION:
URL:https://fc-pilsum.de/termin/fussball-training-13/
LOCATION:Fußballplatz wechselnd
END:VEVENT
BEGIN:VEVENT
DTSTART;TZID=Europe/Berlin:20240503T180000
DTEND;TZID=Europe/Berlin:20240503T210000
DTSTAMP:20260421T160946
CREATED:20240311T065727Z
LAST-MODIFIED:20240315T105723Z
UID:402-1714759200-1714770000@fc-pilsum.de
SUMMARY:Boule Training
DESCRIPTION:
URL:https://fc-pilsum.de/termin/boule-training-5/
LOCATION:Sportplatz
END:VEVENT
BEGIN:VEVENT
DTSTART;TZID=Europe/Berlin:20240503T190000
DTEND;TZID=Europe/Berlin:20240503T210000
DTSTAMP:20260421T160946
CREATED:20240320T070537Z
LAST-MODIFIED:20240320T070539Z
UID:849-1714762800-1714770000@fc-pilsum.de
SUMMARY:Tischtennis Training
DESCRIPTION:Jugend trainiert ab 17:30 Uhr
URL:https://fc-pilsum.de/termin/tischtennis-training-14/
LOCATION:Turnhalle Greetsiel
END:VEVENT
BEGIN:VEVENT
DTSTART;TZID=Europe/Berlin:20240505T170000
DTEND;TZID=Europe/Berlin:20240505T190000
DTSTAMP:20260421T160946
CREATED:20240311T065954Z
LAST-MODIFIED:20240315T105627Z
UID:406-1714928400-1714935600@fc-pilsum.de
SUMMARY:Fiev Ührtje
DESCRIPTION:
URL:https://fc-pilsum.de/termin/fiev-uehrtje-4/
LOCATION:Vereinsheim
END:VEVENT
BEGIN:VEVENT
DTSTART;TZID=Europe/Berlin:20240506T190000
DTEND;TZID=Europe/Berlin:20240506T210000
DTSTAMP:20260421T160946
CREATED:20240404T123558Z
LAST-MODIFIED:20240404T123559Z
UID:1004-1715022000-1715029200@fc-pilsum.de
SUMMARY:Vorstandssitzung
DESCRIPTION:
URL:https://fc-pilsum.de/termin/vorstandssitzung-4/
LOCATION:Vereinsheim
END:VEVENT
BEGIN:VEVENT
DTSTART;TZID=Europe/Berlin:20240507T170000
DTEND;TZID=Europe/Berlin:20240507T180000
DTSTAMP:20260421T160946
CREATED:20240315T181448Z
LAST-MODIFIED:20240315T181449Z
UID:632-1715101200-1715104800@fc-pilsum.de
SUMMARY:Damen Gymnastik
DESCRIPTION:
URL:https://fc-pilsum.de/termin/damen-gymnastik-8/
LOCATION:Sporthalle Greetsiel
END:VEVENT
BEGIN:VEVENT
DTSTART;TZID=Europe/Berlin:20240507T190000
DTEND;TZID=Europe/Berlin:20240507T210000
DTSTAMP:20260421T160946
CREATED:20240318T115950Z
LAST-MODIFIED:20240318T115951Z
UID:789-1715108400-1715115600@fc-pilsum.de
SUMMARY:Fußball Training
DESCRIPTION:
URL:https://fc-pilsum.de/termin/fussball-training-14/
LOCATION:Fußballplatz wechselnd
END:VEVENT
BEGIN:VEVENT
DTSTART;TZID=Europe/Berlin:20240507T190000
DTEND;TZID=Europe/Berlin:20240507T210000
DTSTAMP:20260421T160946
CREATED:20240320T070804Z
LAST-MODIFIED:20240320T070805Z
UID:851-1715108400-1715115600@fc-pilsum.de
SUMMARY:Tischtennis Training
DESCRIPTION:Jugend trainiert ab 17:30 Uhr
URL:https://fc-pilsum.de/termin/tischtennis-training-15/
LOCATION:Turnhalle Greetsiel
END:VEVENT
BEGIN:VEVENT
DTSTART;TZID=Europe/Berlin:20240509T000000
DTEND;TZID=Europe/Berlin:20240509T235959
DTSTAMP:20260421T160946
CREATED:20240311T070052Z
LAST-MODIFIED:20240315T174619Z
UID:408-1715212800-1715299199@fc-pilsum.de
SUMMARY:Christi Himmelfahrt
DESCRIPTION:Feiertags ist das Vereinsheim geschlossen und es findet kein Training statt
URL:https://fc-pilsum.de/termin/christi-himmelfahrt/
LOCATION:Sportplatz
END:VEVENT
BEGIN:VEVENT
DTSTART;TZID=Europe/Berlin:20240509T190000
DTEND;TZID=Europe/Berlin:20240509T210000
DTSTAMP:20260421T160946
CREATED:20240318T120136Z
LAST-MODIFIED:20240318T120138Z
UID:791-1715281200-1715288400@fc-pilsum.de
SUMMARY:Fußball Training
DESCRIPTION:
URL:https://fc-pilsum.de/termin/fussball-training-15/
LOCATION:Fußballplatz wechselnd
END:VEVENT
BEGIN:VEVENT
DTSTART;TZID=Europe/Berlin:20240510T180000
DTEND;TZID=Europe/Berlin:20240510T210000
DTSTAMP:20260421T160946
CREATED:20240311T070202Z
LAST-MODIFIED:20240315T105558Z
UID:410-1715364000-1715374800@fc-pilsum.de
SUMMARY:Boule Training
DESCRIPTION:
URL:https://fc-pilsum.de/termin/boule-training-7/
LOCATION:Sportplatz
END:VEVENT
BEGIN:VEVENT
DTSTART;TZID=Europe/Berlin:20240510T190000
DTEND;TZID=Europe/Berlin:20240510T210000
DTSTAMP:20260421T160946
CREATED:20240320T070858Z
LAST-MODIFIED:20240320T070900Z
UID:853-1715367600-1715374800@fc-pilsum.de
SUMMARY:Tischtennis Training
DESCRIPTION:Jugend trainiert ab 17:30 Uhr
URL:https://fc-pilsum.de/termin/tischtennis-training-16/
LOCATION:Turnhalle Greetsiel
END:VEVENT
BEGIN:VEVENT
DTSTART;TZID=Europe/Berlin:20240511T140000
DTEND;TZID=Europe/Berlin:20240511T180000
DTSTAMP:20260421T160946
CREATED:20240507T102714Z
LAST-MODIFIED:20240507T102716Z
UID:1089-1715436000-1715450400@fc-pilsum.de
SUMMARY:Fahrradsparte startet ihre Saison
DESCRIPTION:14 Uhr Treffpunkt am Sportplatz Pilsum\, Tour ca. 23 KM
URL:https://fc-pilsum.de/termin/fahrradsparte-startet-ihre-saison/
LOCATION:Sportplatz
END:VEVENT
BEGIN:VEVENT
DTSTART;TZID=Europe/Berlin:20240514T170000
DTEND;TZID=Europe/Berlin:20240514T180000
DTSTAMP:20260421T160946
CREATED:20240315T182431Z
LAST-MODIFIED:20240315T182431Z
UID:634-1715706000-1715709600@fc-pilsum.de
SUMMARY:Damen Gymnastik
DESCRIPTION:
URL:https://fc-pilsum.de/termin/damen-gymnastik-9/
LOCATION:Sporthalle Greetsiel
END:VEVENT
BEGIN:VEVENT
DTSTART;TZID=Europe/Berlin:20240514T190000
DTEND;TZID=Europe/Berlin:20240514T210000
DTSTAMP:20260421T160946
CREATED:20240318T120225Z
LAST-MODIFIED:20240318T120227Z
UID:793-1715713200-1715720400@fc-pilsum.de
SUMMARY:Fußball Training
DESCRIPTION:
URL:https://fc-pilsum.de/termin/fussball-training-16/
LOCATION:Fußballplatz wechselnd
END:VEVENT
BEGIN:VEVENT
DTSTART;TZID=Europe/Berlin:20240514T190000
DTEND;TZID=Europe/Berlin:20240514T210000
DTSTAMP:20260421T160946
CREATED:20240320T070949Z
LAST-MODIFIED:20240320T070950Z
UID:855-1715713200-1715720400@fc-pilsum.de
SUMMARY:Tischtennis Training
DESCRIPTION:Jugend trainiert ab 17:30 Uhr
URL:https://fc-pilsum.de/termin/tischtennis-training-17/
LOCATION:Turnhalle Greetsiel
END:VEVENT
BEGIN:VEVENT
DTSTART;TZID=Europe/Berlin:20240516T190000
DTEND;TZID=Europe/Berlin:20240516T210000
DTSTAMP:20260421T160946
CREATED:20240318T120316Z
LAST-MODIFIED:20240318T120317Z
UID:795-1715886000-1715893200@fc-pilsum.de
SUMMARY:Fußball Training
DESCRIPTION:
URL:https://fc-pilsum.de/termin/fussball-training-17/
LOCATION:Fußballplatz wechselnd
END:VEVENT
BEGIN:VEVENT
DTSTART;TZID=Europe/Berlin:20240517T180000
DTEND;TZID=Europe/Berlin:20240517T210000
DTSTAMP:20260421T160946
CREATED:20240517T101545Z
LAST-MODIFIED:20240517T101546Z
UID:1124-1715968800-1715979600@fc-pilsum.de
SUMMARY:Boule Training
DESCRIPTION:
URL:https://fc-pilsum.de/termin/boule-training-2/
LOCATION:Sportplatz
END:VEVENT
BEGIN:VEVENT
DTSTART;TZID=Europe/Berlin:20240517T190000
DTEND;TZID=Europe/Berlin:20240517T210000
DTSTAMP:20260421T160946
CREATED:20240320T071042Z
LAST-MODIFIED:20240320T071615Z
UID:857-1715972400-1715979600@fc-pilsum.de
SUMMARY:Tischtennis Training
DESCRIPTION:Jugend trainiert ab 17:30 Uhr
URL:https://fc-pilsum.de/termin/tischtennis-training-18/
LOCATION:Turnhalle Greetsiel
END:VEVENT
BEGIN:VEVENT
DTSTART;TZID=Europe/Berlin:20240521T170000
DTEND;TZID=Europe/Berlin:20240521T180000
DTSTAMP:20260421T160946
CREATED:20240315T182523Z
LAST-MODIFIED:20240315T182524Z
UID:636-1716310800-1716314400@fc-pilsum.de
SUMMARY:Damen Gymnastik
DESCRIPTION:
URL:https://fc-pilsum.de/termin/damen-gymnastik-10/
LOCATION:Sporthalle Greetsiel
END:VEVENT
BEGIN:VEVENT
DTSTART;TZID=Europe/Berlin:20240521T190000
DTEND;TZID=Europe/Berlin:20240521T210000
DTSTAMP:20260421T160946
CREATED:20240318T120404Z
LAST-MODIFIED:20240318T120454Z
UID:797-1716318000-1716325200@fc-pilsum.de
SUMMARY:Fußball Training
DESCRIPTION:
URL:https://fc-pilsum.de/termin/fussball-training-18/
LOCATION:Fußballplatz wechselnd
END:VEVENT
BEGIN:VEVENT
DTSTART;TZID=Europe/Berlin:20240521T190000
DTEND;TZID=Europe/Berlin:20240521T210000
DTSTAMP:20260421T160946
CREATED:20240320T071207Z
LAST-MODIFIED:20240320T071209Z
UID:859-1716318000-1716325200@fc-pilsum.de
SUMMARY:Tischtennis Training
DESCRIPTION:Jugend trainiert ab 17:30 Uhr
URL:https://fc-pilsum.de/termin/tischtennis-training-19/
LOCATION:Turnhalle Greetsiel
END:VEVENT
BEGIN:VEVENT
DTSTART;TZID=Europe/Berlin:20240522T190000
DTEND;TZID=Europe/Berlin:20240522T210000
DTSTAMP:20260421T160946
CREATED:20240320T074010Z
LAST-MODIFIED:20240523T055450Z
UID:894-1716404400-1716411600@fc-pilsum.de
SUMMARY:Murmel Training
DESCRIPTION:
URL:https://fc-pilsum.de/termin/murmel-training-6/
LOCATION:Sportplatz
END:VEVENT
BEGIN:VEVENT
DTSTART;TZID=Europe/Berlin:20240523T190000
DTEND;TZID=Europe/Berlin:20240523T210000
DTSTAMP:20260421T160946
CREATED:20240319T072904Z
LAST-MODIFIED:20240319T072905Z
UID:807-1716490800-1716498000@fc-pilsum.de
SUMMARY:Fußball Training
DESCRIPTION:
URL:https://fc-pilsum.de/termin/fussball-training-19/
LOCATION:Fußballplatz wechselnd
END:VEVENT
BEGIN:VEVENT
DTSTART;TZID=Europe/Berlin:20240524T180000
DTEND;TZID=Europe/Berlin:20240524T210000
DTSTAMP:20260421T160946
CREATED:20240517T102144Z
LAST-MODIFIED:20240517T102145Z
UID:1130-1716573600-1716584400@fc-pilsum.de
SUMMARY:Boule Training
DESCRIPTION:
URL:https://fc-pilsum.de/termin/boule-training-4/
LOCATION:Sportplatz
END:VEVENT
BEGIN:VEVENT
DTSTART;TZID=Europe/Berlin:20240524T190000
DTEND;TZID=Europe/Berlin:20240524T210000
DTSTAMP:20260421T160946
CREATED:20240320T071301Z
LAST-MODIFIED:20240320T071303Z
UID:861-1716577200-1716584400@fc-pilsum.de
SUMMARY:Tischtennis Training
DESCRIPTION:Jugend trainiert ab 17:30 Uhr
URL:https://fc-pilsum.de/termin/tischtennis-training-20/
LOCATION:Turnhalle Greetsiel
END:VEVENT
BEGIN:VEVENT
DTSTART;TZID=Europe/Berlin:20240528T170000
DTEND;TZID=Europe/Berlin:20240528T180000
DTSTAMP:20260421T160946
CREATED:20240315T182608Z
LAST-MODIFIED:20240315T182609Z
UID:638-1716915600-1716919200@fc-pilsum.de
SUMMARY:Damen Gymnastik
DESCRIPTION:
URL:https://fc-pilsum.de/termin/damen-gymnastik-11/
LOCATION:Sporthalle Greetsiel
END:VEVENT
BEGIN:VEVENT
DTSTART;TZID=Europe/Berlin:20240528T190000
DTEND;TZID=Europe/Berlin:20240528T210000
DTSTAMP:20260421T160946
CREATED:20240319T073005Z
LAST-MODIFIED:20240319T073007Z
UID:809-1716922800-1716930000@fc-pilsum.de
SUMMARY:Fußball Training
DESCRIPTION:
URL:https://fc-pilsum.de/termin/fussball-training-20/
LOCATION:Fußballplatz wechselnd
END:VEVENT
END:VCALENDAR