BEGIN:VCALENDAR
VERSION:2.0
PRODID:-//F.C. „Hoffnung“ Pilsum e.V. - ECPv6.15.16//NONSGML v1.0//EN
CALSCALE:GREGORIAN
METHOD:PUBLISH
X-WR-CALNAME:F.C. „Hoffnung“ Pilsum e.V.
X-ORIGINAL-URL:https://fc-pilsum.de
X-WR-CALDESC:Veranstaltungen für F.C. „Hoffnung“ Pilsum e.V.
REFRESH-INTERVAL;VALUE=DURATION:PT1H
X-Robots-Tag:noindex
X-PUBLISHED-TTL:PT1H
BEGIN:VTIMEZONE
TZID:Europe/Berlin
BEGIN:DAYLIGHT
TZOFFSETFROM:+0100
TZOFFSETTO:+0200
TZNAME:CEST
DTSTART:20230326T010000
END:DAYLIGHT
BEGIN:STANDARD
TZOFFSETFROM:+0200
TZOFFSETTO:+0100
TZNAME:CET
DTSTART:20231029T010000
END:STANDARD
BEGIN:DAYLIGHT
TZOFFSETFROM:+0100
TZOFFSETTO:+0200
TZNAME:CEST
DTSTART:20240331T010000
END:DAYLIGHT
BEGIN:STANDARD
TZOFFSETFROM:+0200
TZOFFSETTO:+0100
TZNAME:CET
DTSTART:20241027T010000
END:STANDARD
BEGIN:DAYLIGHT
TZOFFSETFROM:+0100
TZOFFSETTO:+0200
TZNAME:CEST
DTSTART:20250330T010000
END:DAYLIGHT
BEGIN:STANDARD
TZOFFSETFROM:+0200
TZOFFSETTO:+0100
TZNAME:CET
DTSTART:20251026T010000
END:STANDARD
END:VTIMEZONE
BEGIN:VEVENT
DTSTART;TZID=Europe/Berlin:20240331T000000
DTEND;TZID=Europe/Berlin:20240401T235959
DTSTAMP:20260421T173315
CREATED:20240310T131516Z
LAST-MODIFIED:20240319T074151Z
UID:377-1711843200-1712015999@fc-pilsum.de
SUMMARY:Ostern
DESCRIPTION:Feiertags ist das Vereinsheim geschlossen und es findet kein Training statt
URL:https://fc-pilsum.de/termin/ostermontag/
LOCATION:Sportplatz
END:VEVENT
BEGIN:VEVENT
DTSTART;TZID=Europe/Berlin:20240401T140000
DTEND;TZID=Europe/Berlin:20240401T140000
DTSTAMP:20260421T173315
CREATED:20240310T132014Z
LAST-MODIFIED:20240331T155131Z
UID:380-1711980000-1711980000@fc-pilsum.de
SUMMARY:Nachbesprechung Osterfeuer
DESCRIPTION:Vereinsheim
URL:https://fc-pilsum.de/termin/nachbesprechung-osterfeuer/
LOCATION:Vereinsheim
END:VEVENT
BEGIN:VEVENT
DTSTART;TZID=Europe/Berlin:20240402T170000
DTEND;TZID=Europe/Berlin:20240402T180000
DTSTAMP:20260421T173315
CREATED:20240315T180238Z
LAST-MODIFIED:20240315T180239Z
UID:622-1712077200-1712080800@fc-pilsum.de
SUMMARY:Damen Gymnastik
DESCRIPTION:
URL:https://fc-pilsum.de/termin/damen-gymnastik-3/
LOCATION:Sporthalle Greetsiel
END:VEVENT
BEGIN:VEVENT
DTSTART;TZID=Europe/Berlin:20240402T190000
DTEND;TZID=Europe/Berlin:20240402T210000
DTSTAMP:20260421T173315
CREATED:20240318T115007Z
LAST-MODIFIED:20240318T115008Z
UID:768-1712084400-1712091600@fc-pilsum.de
SUMMARY:Fußball Training
DESCRIPTION:
URL:https://fc-pilsum.de/termin/fussball-training-5/
LOCATION:Fußballplatz wechselnd
END:VEVENT
BEGIN:VEVENT
DTSTART;TZID=Europe/Berlin:20240402T190000
DTEND;TZID=Europe/Berlin:20240402T210000
DTSTAMP:20260421T173315
CREATED:20240319T074535Z
LAST-MODIFIED:20240319T074536Z
UID:831-1712084400-1712091600@fc-pilsum.de
SUMMARY:Tischtennis Training
DESCRIPTION:Jugend trainiert ab 17:30 Uhr
URL:https://fc-pilsum.de/termin/tischtennis-training-5/
LOCATION:Turnhalle Greetsiel
END:VEVENT
BEGIN:VEVENT
DTSTART;TZID=Europe/Berlin:20240403T190000
DTEND;TZID=Europe/Berlin:20240403T210000
DTSTAMP:20260421T173315
CREATED:20240331T155327Z
LAST-MODIFIED:20240331T155329Z
UID:997-1712170800-1712178000@fc-pilsum.de
SUMMARY:Vorstandssitzung
DESCRIPTION:
URL:https://fc-pilsum.de/termin/vorstandssitzung-3/
LOCATION:Vereinsheim
END:VEVENT
BEGIN:VEVENT
DTSTART;TZID=Europe/Berlin:20240404T190000
DTEND;TZID=Europe/Berlin:20240404T210000
DTSTAMP:20260421T173315
CREATED:20240318T115050Z
LAST-MODIFIED:20240318T115051Z
UID:770-1712257200-1712264400@fc-pilsum.de
SUMMARY:Fußball Training
DESCRIPTION:
URL:https://fc-pilsum.de/termin/fussball-training-6/
LOCATION:Fußballplatz wechselnd
END:VEVENT
BEGIN:VEVENT
DTSTART;TZID=Europe/Berlin:20240405T180000
DTEND;TZID=Europe/Berlin:20240405T210000
DTSTAMP:20260421T173315
CREATED:20240310T132150Z
LAST-MODIFIED:20240315T175120Z
UID:382-1712340000-1712350800@fc-pilsum.de
SUMMARY:Darts Training
DESCRIPTION:
URL:https://fc-pilsum.de/termin/darts-training-2/
LOCATION:Unterstand auf dem Sportplatz
END:VEVENT
BEGIN:VEVENT
DTSTART;TZID=Europe/Berlin:20240405T190000
DTEND;TZID=Europe/Berlin:20240405T210000
DTSTAMP:20260421T173315
CREATED:20240319T074634Z
LAST-MODIFIED:20240319T074635Z
UID:833-1712343600-1712350800@fc-pilsum.de
SUMMARY:Tischtennis Training
DESCRIPTION:Jugend trainiert ab 17:30 Uhr
URL:https://fc-pilsum.de/termin/tischtennis-training-6/
LOCATION:Turnhalle Greetsiel
END:VEVENT
BEGIN:VEVENT
DTSTART;TZID=Europe/Berlin:20240405T193000
DTEND;TZID=Europe/Berlin:20240405T213000
DTSTAMP:20260421T173315
CREATED:20240315T185438Z
LAST-MODIFIED:20240315T185438Z
UID:669-1712345400-1712352600@fc-pilsum.de
SUMMARY:TT Heimspiel SG Greetsiel/Pilsum - SG Sandhorst/Walle
DESCRIPTION:
URL:https://fc-pilsum.de/termin/tt-heimspiel-sg-greetsiel-pilsum-sg-sandhorst-walle/
LOCATION:Turnhalle Greetsiel
END:VEVENT
BEGIN:VEVENT
DTSTART;TZID=Europe/Berlin:20240406T120000
DTEND;TZID=Europe/Berlin:20240407T120000
DTSTAMP:20260421T173315
CREATED:20240312T131742Z
LAST-MODIFIED:20240315T175531Z
UID:443-1712404800-1712491200@fc-pilsum.de
SUMMARY:Unterstand vermietet
DESCRIPTION:
URL:https://fc-pilsum.de/termin/unterstand-vermietet/
LOCATION:Unterstand auf dem Sportplatz
END:VEVENT
BEGIN:VEVENT
DTSTART;TZID=Europe/Berlin:20240407T170000
DTEND;TZID=Europe/Berlin:20240407T190000
DTSTAMP:20260421T173315
CREATED:20240310T132438Z
LAST-MODIFIED:20240315T173501Z
UID:384-1712509200-1712516400@fc-pilsum.de
SUMMARY:Fiev Ührtje
DESCRIPTION:
URL:https://fc-pilsum.de/termin/fiev-uehrtje-2/
LOCATION:Vereinsheim
END:VEVENT
BEGIN:VEVENT
DTSTART;TZID=Europe/Berlin:20240409T170000
DTEND;TZID=Europe/Berlin:20240409T180000
DTSTAMP:20260421T173315
CREATED:20240315T181147Z
LAST-MODIFIED:20240315T181147Z
UID:624-1712682000-1712685600@fc-pilsum.de
SUMMARY:Damen Gymnastik
DESCRIPTION:
URL:https://fc-pilsum.de/termin/damen-gymnastik-4/
LOCATION:Sporthalle Greetsiel
END:VEVENT
BEGIN:VEVENT
DTSTART;TZID=Europe/Berlin:20240409T190000
DTEND;TZID=Europe/Berlin:20240409T210000
DTSTAMP:20260421T173315
CREATED:20240318T115124Z
LAST-MODIFIED:20240318T115125Z
UID:772-1712689200-1712696400@fc-pilsum.de
SUMMARY:Fußball Training
DESCRIPTION:
URL:https://fc-pilsum.de/termin/fussball-training-7/
LOCATION:Fußballplatz wechselnd
END:VEVENT
BEGIN:VEVENT
DTSTART;TZID=Europe/Berlin:20240409T190000
DTEND;TZID=Europe/Berlin:20240409T210000
DTSTAMP:20260421T173315
CREATED:20240319T074727Z
LAST-MODIFIED:20240319T074729Z
UID:835-1712689200-1712696400@fc-pilsum.de
SUMMARY:Tischtennis Training
DESCRIPTION:Jugend trainiert ab 17:30 Uhr
URL:https://fc-pilsum.de/termin/tischtennis-training-7/
LOCATION:Turnhalle Greetsiel
END:VEVENT
BEGIN:VEVENT
DTSTART;TZID=Europe/Berlin:20240411T190000
DTEND;TZID=Europe/Berlin:20240411T210000
DTSTAMP:20260421T173315
CREATED:20240318T115159Z
LAST-MODIFIED:20240318T115200Z
UID:774-1712862000-1712869200@fc-pilsum.de
SUMMARY:Fußball Training
DESCRIPTION:
URL:https://fc-pilsum.de/termin/fussball-training-8/
LOCATION:Fußballplatz wechselnd
END:VEVENT
BEGIN:VEVENT
DTSTART;TZID=Europe/Berlin:20240412T190000
DTEND;TZID=Europe/Berlin:20240412T210000
DTSTAMP:20260421T173315
CREATED:20240319T074817Z
LAST-MODIFIED:20240319T074818Z
UID:837-1712948400-1712955600@fc-pilsum.de
SUMMARY:Tischtennis Training
DESCRIPTION:Jugend trainiert ab 17:30 Uhr
URL:https://fc-pilsum.de/termin/tischtennis-training-8/
LOCATION:Turnhalle Greetsiel
END:VEVENT
BEGIN:VEVENT
DTSTART;TZID=Europe/Berlin:20240412T200000
DTEND;TZID=Europe/Berlin:20240412T230000
DTSTAMP:20260421T173315
CREATED:20240315T185604Z
LAST-MODIFIED:20240315T185605Z
UID:671-1712952000-1712962800@fc-pilsum.de
SUMMARY:TT Auswärtsspiel TTG Nord Holtriem-SG - Greetsiel/Pilsum
DESCRIPTION:
URL:https://fc-pilsum.de/termin/tt-auswaertsspiel-ttg-nord-holtriem-sg-greetsiel-pilsum/
END:VEVENT
BEGIN:VEVENT
DTSTART;TZID=Europe/Berlin:20240413T120000
DTEND;TZID=Europe/Berlin:20240413T170000
DTSTAMP:20260421T173315
CREATED:20240310T132647Z
LAST-MODIFIED:20240315T175301Z
UID:386-1713009600-1713027600@fc-pilsum.de
SUMMARY:Frühjahrsputz Boulegruppe
DESCRIPTION:Equipment überprüfen und evtl. erneuern\, Boulebahn herrichten
URL:https://fc-pilsum.de/termin/fruehjahrsputz-boulegruppe/
LOCATION:Unterstand auf dem Sportplatz
END:VEVENT
BEGIN:VEVENT
DTSTART;TZID=Europe/Berlin:20240416T170000
DTEND;TZID=Europe/Berlin:20240416T180000
DTSTAMP:20260421T173315
CREATED:20240315T181235Z
LAST-MODIFIED:20240315T181236Z
UID:626-1713286800-1713290400@fc-pilsum.de
SUMMARY:Damen Gymnastik
DESCRIPTION:
URL:https://fc-pilsum.de/termin/damen-gymnastik-5/
LOCATION:Sporthalle Greetsiel
END:VEVENT
BEGIN:VEVENT
DTSTART;TZID=Europe/Berlin:20240416T190000
DTEND;TZID=Europe/Berlin:20240416T210000
DTSTAMP:20260421T173315
CREATED:20240318T115230Z
LAST-MODIFIED:20240318T115231Z
UID:776-1713294000-1713301200@fc-pilsum.de
SUMMARY:Fußball Training
DESCRIPTION:
URL:https://fc-pilsum.de/termin/fussball-training-9/
LOCATION:Fußballplatz wechselnd
END:VEVENT
BEGIN:VEVENT
DTSTART;TZID=Europe/Berlin:20240416T190000
DTEND;TZID=Europe/Berlin:20240416T210000
DTSTAMP:20260421T173315
CREATED:20240319T074911Z
LAST-MODIFIED:20240319T074912Z
UID:839-1713294000-1713301200@fc-pilsum.de
SUMMARY:Tischtennis Training
DESCRIPTION:Jugend trainiert ab 17:30 Uhr
URL:https://fc-pilsum.de/termin/tischtennis-training-9/
LOCATION:Turnhalle Greetsiel
END:VEVENT
BEGIN:VEVENT
DTSTART;TZID=Europe/Berlin:20240418T190000
DTEND;TZID=Europe/Berlin:20240418T210000
DTSTAMP:20260421T173315
CREATED:20240318T115302Z
LAST-MODIFIED:20240318T115303Z
UID:778-1713466800-1713474000@fc-pilsum.de
SUMMARY:Fußball Training
DESCRIPTION:
URL:https://fc-pilsum.de/termin/fussball-training-10/
LOCATION:Fußballplatz wechselnd
END:VEVENT
BEGIN:VEVENT
DTSTART;TZID=Europe/Berlin:20240419T180000
DTEND;TZID=Europe/Berlin:20240419T210000
DTSTAMP:20260421T173315
CREATED:20240310T132823Z
LAST-MODIFIED:20240315T174138Z
UID:388-1713549600-1713560400@fc-pilsum.de
SUMMARY:Boule Training
DESCRIPTION:
URL:https://fc-pilsum.de/termin/boule-training/
LOCATION:Sportplatz
END:VEVENT
BEGIN:VEVENT
DTSTART;TZID=Europe/Berlin:20240419T190000
DTEND;TZID=Europe/Berlin:20240419T210000
DTSTAMP:20260421T173315
CREATED:20240319T075017Z
LAST-MODIFIED:20240319T075019Z
UID:841-1713553200-1713560400@fc-pilsum.de
SUMMARY:Tischtennis Training
DESCRIPTION:Jugend trainiert ab 17:30 Uhr
URL:https://fc-pilsum.de/termin/tischtennis-training-10/
LOCATION:Turnhalle Greetsiel
END:VEVENT
BEGIN:VEVENT
DTSTART;TZID=Europe/Berlin:20240420T090000
DTEND;TZID=Europe/Berlin:20240420T130000
DTSTAMP:20260421T173315
CREATED:20240311T071553Z
LAST-MODIFIED:20240315T173538Z
UID:422-1713603600-1713618000@fc-pilsum.de
SUMMARY:Frühjahrs-Arbeitseinsatz
DESCRIPTION:
URL:https://fc-pilsum.de/termin/fruehjahrs-arbeitseinsatz/
LOCATION:Bootjehafen
END:VEVENT
BEGIN:VEVENT
DTSTART;TZID=Europe/Berlin:20240423T170000
DTEND;TZID=Europe/Berlin:20240423T180000
DTSTAMP:20260421T173315
CREATED:20240315T181310Z
LAST-MODIFIED:20240315T181311Z
UID:628-1713891600-1713895200@fc-pilsum.de
SUMMARY:Damen Gymnastik
DESCRIPTION:
URL:https://fc-pilsum.de/termin/damen-gymnastik-6/
LOCATION:Sporthalle Greetsiel
END:VEVENT
BEGIN:VEVENT
DTSTART;TZID=Europe/Berlin:20240423T190000
DTEND;TZID=Europe/Berlin:20240423T210000
DTSTAMP:20260421T173315
CREATED:20240318T115330Z
LAST-MODIFIED:20240318T115331Z
UID:780-1713898800-1713906000@fc-pilsum.de
SUMMARY:Fußball Training
DESCRIPTION:
URL:https://fc-pilsum.de/termin/fussball-training-11/
LOCATION:Fußballplatz wechselnd
END:VEVENT
BEGIN:VEVENT
DTSTART;TZID=Europe/Berlin:20240423T190000
DTEND;TZID=Europe/Berlin:20240423T210000
DTSTAMP:20260421T173315
CREATED:20240319T075120Z
LAST-MODIFIED:20240319T075122Z
UID:843-1713898800-1713906000@fc-pilsum.de
SUMMARY:Tischtennis Training
DESCRIPTION:Jugend trainiert ab 17:30 Uhr
URL:https://fc-pilsum.de/termin/tischtennis-training-11/
LOCATION:Turnhalle Greetsiel
END:VEVENT
BEGIN:VEVENT
DTSTART;TZID=Europe/Berlin:20240424T170000
DTEND;TZID=Europe/Berlin:20240424T190000
DTSTAMP:20260421T173315
CREATED:20240310T133258Z
LAST-MODIFIED:20240315T173624Z
UID:394-1713978000-1713985200@fc-pilsum.de
SUMMARY:Maibaumschmuck basteln
DESCRIPTION:
URL:https://fc-pilsum.de/termin/maibaumschmuck-basteln/
LOCATION:Vereinsheim
END:VEVENT
END:VCALENDAR