BEGIN:VCALENDAR
VERSION:2.0
PRODID:-//F.C. „Hoffnung“ Pilsum e.V. - ECPv6.15.16//NONSGML v1.0//EN
CALSCALE:GREGORIAN
METHOD:PUBLISH
X-ORIGINAL-URL:https://fc-pilsum.de
X-WR-CALDESC:Veranstaltungen für F.C. „Hoffnung“ Pilsum e.V.
REFRESH-INTERVAL;VALUE=DURATION:PT1H
X-Robots-Tag:noindex
X-PUBLISHED-TTL:PT1H
BEGIN:VTIMEZONE
TZID:Europe/Berlin
BEGIN:DAYLIGHT
TZOFFSETFROM:+0100
TZOFFSETTO:+0200
TZNAME:CEST
DTSTART:20230326T010000
END:DAYLIGHT
BEGIN:STANDARD
TZOFFSETFROM:+0200
TZOFFSETTO:+0100
TZNAME:CET
DTSTART:20231029T010000
END:STANDARD
BEGIN:DAYLIGHT
TZOFFSETFROM:+0100
TZOFFSETTO:+0200
TZNAME:CEST
DTSTART:20240331T010000
END:DAYLIGHT
BEGIN:STANDARD
TZOFFSETFROM:+0200
TZOFFSETTO:+0100
TZNAME:CET
DTSTART:20241027T010000
END:STANDARD
BEGIN:DAYLIGHT
TZOFFSETFROM:+0100
TZOFFSETTO:+0200
TZNAME:CEST
DTSTART:20250330T010000
END:DAYLIGHT
BEGIN:STANDARD
TZOFFSETFROM:+0200
TZOFFSETTO:+0100
TZNAME:CET
DTSTART:20251026T010000
END:STANDARD
END:VTIMEZONE
BEGIN:VEVENT
DTSTART;TZID=Europe/Berlin:20240312T170000
DTEND;TZID=Europe/Berlin:20240312T180000
DTSTAMP:20260421T225219
CREATED:20240312T133850Z
LAST-MODIFIED:20240315T175726Z
UID:459-1710262800-1710266400@fc-pilsum.de
SUMMARY:Damen Gymnastik
DESCRIPTION:
URL:https://fc-pilsum.de/termin/459/
LOCATION:Sporthalle Greetsiel
END:VEVENT
BEGIN:VEVENT
DTSTART;TZID=Europe/Berlin:20240315T170000
DTEND;TZID=Europe/Berlin:20240315T180000
DTSTAMP:20260421T225219
CREATED:20240315T180137Z
LAST-MODIFIED:20240315T180138Z
UID:620-1710522000-1710525600@fc-pilsum.de
SUMMARY:Damen Gymnastik
DESCRIPTION:
URL:https://fc-pilsum.de/termin/damen-gymnastik-2/
LOCATION:Sporthalle Greetsiel
END:VEVENT
BEGIN:VEVENT
DTSTART;TZID=Europe/Berlin:20240315T180000
DTEND;TZID=Europe/Berlin:20240315T210000
DTSTAMP:20260421T225219
CREATED:20240310T124519Z
LAST-MODIFIED:20240315T105834Z
UID:353-1710525600-1710536400@fc-pilsum.de
SUMMARY:internes Mannschaftsturnier Darts
DESCRIPTION:
URL:https://fc-pilsum.de/termin/internes-mannschaftsturnier-darts/
LOCATION:Unterstand auf dem Sportplatz
END:VEVENT
BEGIN:VEVENT
DTSTART;TZID=Europe/Berlin:20240315T183000
DTEND;TZID=Europe/Berlin:20240315T203000
DTSTAMP:20260421T225219
CREATED:20240311T070711Z
LAST-MODIFIED:20240315T173307Z
UID:414-1710527400-1710534600@fc-pilsum.de
SUMMARY:1. Maiversammlung
DESCRIPTION:
URL:https://fc-pilsum.de/termin/1-maiversammlung/
LOCATION:Vereinsheim
END:VEVENT
BEGIN:VEVENT
DTSTART;TZID=Europe/Berlin:20240315T193000
DTEND;TZID=Europe/Berlin:20240315T213000
DTSTAMP:20260421T225219
CREATED:20240315T185316Z
LAST-MODIFIED:20240316T170622Z
UID:667-1710531000-1710538200@fc-pilsum.de
SUMMARY:TT Heimspiel SG Greetsiel / Pilsum - TG Adorf
DESCRIPTION:
URL:https://fc-pilsum.de/termin/tt-heimspiel-sg-greetsiel-pilsum-tg-adorf/
LOCATION:Turnhalle Greetsiel
END:VEVENT
BEGIN:VEVENT
DTSTART;TZID=Europe/Berlin:20240316T090000
DTEND;TZID=Europe/Berlin:20240316T120000
DTSTAMP:20260421T225219
CREATED:20240311T070836Z
LAST-MODIFIED:20240315T105857Z
UID:416-1710579600-1710590400@fc-pilsum.de
SUMMARY:Strauch- und Schnittgutannahme für das Osterfeuer
DESCRIPTION:ein kleiner roter Traktor wird für die kleinen Helfer fahren
URL:https://fc-pilsum.de/termin/strauch-und-schnittgut-annahme-fuer-das-osterfeuer/
LOCATION:Sportplatz
END:VEVENT
BEGIN:VEVENT
DTSTART;TZID=Europe/Berlin:20240317T170000
DTEND;TZID=Europe/Berlin:20240317T190000
DTSTAMP:20260421T225219
CREATED:20240310T124711Z
LAST-MODIFIED:20240315T173338Z
UID:355-1710694800-1710702000@fc-pilsum.de
SUMMARY:Fiev Ührtje
DESCRIPTION:
URL:https://fc-pilsum.de/termin/fiev-uehrtje/
LOCATION:Vereinsheim
END:VEVENT
BEGIN:VEVENT
DTSTART;TZID=Europe/Berlin:20240319T170000
DTEND;TZID=Europe/Berlin:20240319T180000
DTSTAMP:20260421T225219
CREATED:20240315T175941Z
LAST-MODIFIED:20240315T180041Z
UID:617-1710867600-1710871200@fc-pilsum.de
SUMMARY:Damen Gymnastik
DESCRIPTION:
URL:https://fc-pilsum.de/termin/damen-gymnastik/
LOCATION:Sporthalle Greetsiel
END:VEVENT
BEGIN:VEVENT
DTSTART;TZID=Europe/Berlin:20240319T190000
DTEND;TZID=Europe/Berlin:20240319T210000
DTSTAMP:20260421T225219
CREATED:20240315T183236Z
LAST-MODIFIED:20240315T183237Z
UID:640-1710874800-1710882000@fc-pilsum.de
SUMMARY:Fußball Training
DESCRIPTION:
URL:https://fc-pilsum.de/termin/fussball-training/
LOCATION:Fußballplatz wechselnd
END:VEVENT
BEGIN:VEVENT
DTSTART;TZID=Europe/Berlin:20240319T190000
DTEND;TZID=Europe/Berlin:20240319T210000
DTSTAMP:20260421T225219
CREATED:20240315T183948Z
LAST-MODIFIED:20240315T184827Z
UID:650-1710874800-1710882000@fc-pilsum.de
SUMMARY:Tischtennis Training
DESCRIPTION:Jugend trainiert ab 17:30 Uhr
URL:https://fc-pilsum.de/termin/tischtennis-training/
LOCATION:Turnhalle Greetsiel
END:VEVENT
BEGIN:VEVENT
DTSTART;TZID=Europe/Berlin:20240321T190000
DTEND;TZID=Europe/Berlin:20240321T210000
DTSTAMP:20260421T225219
CREATED:20240315T183348Z
LAST-MODIFIED:20240315T183348Z
UID:644-1711047600-1711054800@fc-pilsum.de
SUMMARY:Fußball Training
DESCRIPTION:
URL:https://fc-pilsum.de/termin/fussball-training-2/
LOCATION:Fußballplatz wechselnd
END:VEVENT
BEGIN:VEVENT
DTSTART;TZID=Europe/Berlin:20240322T180000
DTEND;TZID=Europe/Berlin:20240322T210000
DTSTAMP:20260421T225219
CREATED:20240310T130010Z
LAST-MODIFIED:20240315T175059Z
UID:364-1711130400-1711141200@fc-pilsum.de
SUMMARY:Darts Training
DESCRIPTION:
URL:https://fc-pilsum.de/termin/darts-training/
LOCATION:Unterstand auf dem Sportplatz
END:VEVENT
BEGIN:VEVENT
DTSTART;TZID=Europe/Berlin:20240322T190000
DTEND;TZID=Europe/Berlin:20240322T210000
DTSTAMP:20260421T225219
CREATED:20240315T184304Z
LAST-MODIFIED:20240315T184844Z
UID:652-1711134000-1711141200@fc-pilsum.de
SUMMARY:Tischtennis Training
DESCRIPTION:Jugend trainiert ab 17:30 Uhr
URL:https://fc-pilsum.de/termin/tischtennis-training-2/
LOCATION:Turnhalle Greetsiel
END:VEVENT
BEGIN:VEVENT
DTSTART;TZID=Europe/Berlin:20240323T090000
DTEND;TZID=Europe/Berlin:20240323T120000
DTSTAMP:20260421T225219
CREATED:20240311T071009Z
LAST-MODIFIED:20240315T175401Z
UID:418-1711184400-1711195200@fc-pilsum.de
SUMMARY:Strauch- und Schnittgutannahme für das Osterfeuer
DESCRIPTION:Sportplatz
URL:https://fc-pilsum.de/termin/strauch-und-schnittgutannahme-fuer-das-osterfeuer/
LOCATION:Sportplatz
END:VEVENT
BEGIN:VEVENT
DTSTART;TZID=Europe/Berlin:20240323T170000
DTEND;TZID=Europe/Berlin:20240323T190000
DTSTAMP:20260421T225219
CREATED:20240310T130154Z
LAST-MODIFIED:20240315T173215Z
UID:366-1711213200-1711220400@fc-pilsum.de
SUMMARY:Vorstandssitzung
DESCRIPTION:
URL:https://fc-pilsum.de/termin/vorstandssitzung-2/
LOCATION:Vereinsheim
END:VEVENT
BEGIN:VEVENT
DTSTART;TZID=Europe/Berlin:20240326T190000
DTEND;TZID=Europe/Berlin:20240326T210000
DTSTAMP:20260421T225219
CREATED:20240315T183609Z
LAST-MODIFIED:20240315T183609Z
UID:646-1711479600-1711486800@fc-pilsum.de
SUMMARY:Fußball Training
DESCRIPTION:
URL:https://fc-pilsum.de/termin/fussball-training-3/
LOCATION:Fußballplatz wechselnd
END:VEVENT
BEGIN:VEVENT
DTSTART;TZID=Europe/Berlin:20240326T190000
DTEND;TZID=Europe/Berlin:20240326T210000
DTSTAMP:20260421T225219
CREATED:20240315T184638Z
LAST-MODIFIED:20240315T184856Z
UID:658-1711479600-1711486800@fc-pilsum.de
SUMMARY:Tischtennis Training
DESCRIPTION:Jugend trainiert ab 17:30 Uhr
URL:https://fc-pilsum.de/termin/tischtennis-training-3/
LOCATION:Turnhalle Greetsiel
END:VEVENT
BEGIN:VEVENT
DTSTART;TZID=Europe/Berlin:20240328T190000
DTEND;TZID=Europe/Berlin:20240328T210000
DTSTAMP:20260421T225219
CREATED:20240315T183650Z
LAST-MODIFIED:20240315T183650Z
UID:648-1711652400-1711659600@fc-pilsum.de
SUMMARY:Fußball Training
DESCRIPTION:
URL:https://fc-pilsum.de/termin/fussball-training-4/
LOCATION:Fußballplatz wechselnd
END:VEVENT
BEGIN:VEVENT
DTSTART;TZID=Europe/Berlin:20240329T000000
DTEND;TZID=Europe/Berlin:20240329T235959
DTSTAMP:20260421T225219
CREATED:20240310T130608Z
LAST-MODIFIED:20240315T174901Z
UID:368-1711670400-1711756799@fc-pilsum.de
SUMMARY:Karfreitag
DESCRIPTION:Feiertags ist das Vereinsheim geschlossen und es findet kein Training statt
URL:https://fc-pilsum.de/termin/karfreitag/
LOCATION:Sportplatz
END:VEVENT
BEGIN:VEVENT
DTSTART;TZID=Europe/Berlin:20240329T190000
DTEND;TZID=Europe/Berlin:20240329T210000
DTSTAMP:20260421T225219
CREATED:20240315T184720Z
LAST-MODIFIED:20240315T184749Z
UID:660-1711738800-1711746000@fc-pilsum.de
SUMMARY:Tischtennis Training
DESCRIPTION:Jugend trainiert ab 17:30 Uhr
URL:https://fc-pilsum.de/termin/tischtennis-training-4/
LOCATION:Turnhalle Greetsiel
END:VEVENT
BEGIN:VEVENT
DTSTART;TZID=Europe/Berlin:20240330T160000
DTEND;TZID=Europe/Berlin:20240331T013000
DTSTAMP:20260421T225219
CREATED:20240310T125821Z
LAST-MODIFIED:20240315T175451Z
UID:362-1711814400-1711848600@fc-pilsum.de
SUMMARY:Osterfeuer
DESCRIPTION:in Zusammenarbeit mit der Freiwilligen Feuerwehr Krummhörn Nord  \n\n\n\nFackellauf für die Kleinen 17 Uhr\, Feuer entzünden ca. 17:30 Uhr
URL:https://fc-pilsum.de/termin/osterfeuer/
LOCATION:Sportplatz
END:VEVENT
BEGIN:VEVENT
DTSTART;TZID=Europe/Berlin:20240331T000000
DTEND;TZID=Europe/Berlin:20240401T235959
DTSTAMP:20260421T225219
CREATED:20240310T131516Z
LAST-MODIFIED:20240319T074151Z
UID:377-1711843200-1712015999@fc-pilsum.de
SUMMARY:Ostern
DESCRIPTION:Feiertags ist das Vereinsheim geschlossen und es findet kein Training statt
URL:https://fc-pilsum.de/termin/ostermontag/
LOCATION:Sportplatz
END:VEVENT
END:VCALENDAR