BEGIN:VCALENDAR
VERSION:2.0
PRODID:-//F.C. „Hoffnung“ Pilsum e.V. - ECPv6.15.16//NONSGML v1.0//EN
CALSCALE:GREGORIAN
METHOD:PUBLISH
X-WR-CALNAME:F.C. „Hoffnung“ Pilsum e.V.
X-ORIGINAL-URL:https://fc-pilsum.de
X-WR-CALDESC:Veranstaltungen für F.C. „Hoffnung“ Pilsum e.V.
REFRESH-INTERVAL;VALUE=DURATION:PT1H
X-Robots-Tag:noindex
X-PUBLISHED-TTL:PT1H
BEGIN:VTIMEZONE
TZID:Europe/Berlin
BEGIN:DAYLIGHT
TZOFFSETFROM:+0100
TZOFFSETTO:+0200
TZNAME:CEST
DTSTART:20230326T010000
END:DAYLIGHT
BEGIN:STANDARD
TZOFFSETFROM:+0200
TZOFFSETTO:+0100
TZNAME:CET
DTSTART:20231029T010000
END:STANDARD
BEGIN:DAYLIGHT
TZOFFSETFROM:+0100
TZOFFSETTO:+0200
TZNAME:CEST
DTSTART:20240331T010000
END:DAYLIGHT
BEGIN:STANDARD
TZOFFSETFROM:+0200
TZOFFSETTO:+0100
TZNAME:CET
DTSTART:20241027T010000
END:STANDARD
BEGIN:DAYLIGHT
TZOFFSETFROM:+0100
TZOFFSETTO:+0200
TZNAME:CEST
DTSTART:20250330T010000
END:DAYLIGHT
BEGIN:STANDARD
TZOFFSETFROM:+0200
TZOFFSETTO:+0100
TZNAME:CET
DTSTART:20251026T010000
END:STANDARD
END:VTIMEZONE
BEGIN:VEVENT
DTSTART;TZID=Europe/Berlin:20240621T180000
DTEND;TZID=Europe/Berlin:20240621T210000
DTSTAMP:20260421T160552
CREATED:20240317T074435Z
LAST-MODIFIED:20240317T074437Z
UID:716-1718992800-1719003600@fc-pilsum.de
SUMMARY:Boule Training
DESCRIPTION:
URL:https://fc-pilsum.de/termin/boule-training-13/
LOCATION:Sportplatz
END:VEVENT
BEGIN:VEVENT
DTSTART;TZID=Europe/Berlin:20240621T190000
DTEND;TZID=Europe/Berlin:20240621T210000
DTSTAMP:20260421T160553
CREATED:20240320T072419Z
LAST-MODIFIED:20240320T072420Z
UID:878-1718996400-1719003600@fc-pilsum.de
SUMMARY:Tischtennis Training
DESCRIPTION:Jugend trainiert ab 17:30 Uhr
URL:https://fc-pilsum.de/termin/tischtennis-training-28/
LOCATION:Turnhalle Greetsiel
END:VEVENT
END:VCALENDAR