BEGIN:VCALENDAR
VERSION:2.0
PRODID:-//F.C. „Hoffnung“ Pilsum e.V. - ECPv6.15.16//NONSGML v1.0//EN
CALSCALE:GREGORIAN
METHOD:PUBLISH
X-WR-CALNAME:F.C. „Hoffnung“ Pilsum e.V.
X-ORIGINAL-URL:https://fc-pilsum.de
X-WR-CALDESC:Veranstaltungen für F.C. „Hoffnung“ Pilsum e.V.
REFRESH-INTERVAL;VALUE=DURATION:PT1H
X-Robots-Tag:noindex
X-PUBLISHED-TTL:PT1H
BEGIN:VTIMEZONE
TZID:Europe/Berlin
BEGIN:DAYLIGHT
TZOFFSETFROM:+0100
TZOFFSETTO:+0200
TZNAME:CEST
DTSTART:20230326T010000
END:DAYLIGHT
BEGIN:STANDARD
TZOFFSETFROM:+0200
TZOFFSETTO:+0100
TZNAME:CET
DTSTART:20231029T010000
END:STANDARD
BEGIN:DAYLIGHT
TZOFFSETFROM:+0100
TZOFFSETTO:+0200
TZNAME:CEST
DTSTART:20240331T010000
END:DAYLIGHT
BEGIN:STANDARD
TZOFFSETFROM:+0200
TZOFFSETTO:+0100
TZNAME:CET
DTSTART:20241027T010000
END:STANDARD
BEGIN:DAYLIGHT
TZOFFSETFROM:+0100
TZOFFSETTO:+0200
TZNAME:CEST
DTSTART:20250330T010000
END:DAYLIGHT
BEGIN:STANDARD
TZOFFSETFROM:+0200
TZOFFSETTO:+0100
TZNAME:CET
DTSTART:20251026T010000
END:STANDARD
END:VTIMEZONE
BEGIN:VEVENT
DTSTART;TZID=Europe/Berlin:20240612T190000
DTEND;TZID=Europe/Berlin:20240612T210000
DTSTAMP:20260421T160640
CREATED:20240320T073811Z
LAST-MODIFIED:20240523T055652Z
UID:888-1718218800-1718226000@fc-pilsum.de
SUMMARY:Murmel Training
DESCRIPTION:
URL:https://fc-pilsum.de/termin/murmel-training-3/
LOCATION:Sportplatz
END:VEVENT
BEGIN:VEVENT
DTSTART;TZID=Europe/Berlin:20240612T190000
DTEND;TZID=Europe/Berlin:20240612T210000
DTSTAMP:20260421T160640
CREATED:20240507T102840Z
LAST-MODIFIED:20240507T102843Z
UID:1091-1718218800-1718226000@fc-pilsum.de
SUMMARY:Vorstandssitzung
DESCRIPTION:
URL:https://fc-pilsum.de/termin/vorstandssitzung-5/
LOCATION:Vereinsheim
END:VEVENT
END:VCALENDAR