BEGIN:VCALENDAR
VERSION:2.0
PRODID:-//F.C. „Hoffnung“ Pilsum e.V. - ECPv6.15.16//NONSGML v1.0//EN
CALSCALE:GREGORIAN
METHOD:PUBLISH
X-WR-CALNAME:F.C. „Hoffnung“ Pilsum e.V.
X-ORIGINAL-URL:https://fc-pilsum.de
X-WR-CALDESC:Veranstaltungen für F.C. „Hoffnung“ Pilsum e.V.
REFRESH-INTERVAL;VALUE=DURATION:PT1H
X-Robots-Tag:noindex
X-PUBLISHED-TTL:PT1H
BEGIN:VTIMEZONE
TZID:Europe/Berlin
BEGIN:DAYLIGHT
TZOFFSETFROM:+0100
TZOFFSETTO:+0200
TZNAME:CEST
DTSTART:20230326T010000
END:DAYLIGHT
BEGIN:STANDARD
TZOFFSETFROM:+0200
TZOFFSETTO:+0100
TZNAME:CET
DTSTART:20231029T010000
END:STANDARD
BEGIN:DAYLIGHT
TZOFFSETFROM:+0100
TZOFFSETTO:+0200
TZNAME:CEST
DTSTART:20240331T010000
END:DAYLIGHT
BEGIN:STANDARD
TZOFFSETFROM:+0200
TZOFFSETTO:+0100
TZNAME:CET
DTSTART:20241027T010000
END:STANDARD
BEGIN:DAYLIGHT
TZOFFSETFROM:+0100
TZOFFSETTO:+0200
TZNAME:CEST
DTSTART:20250330T010000
END:DAYLIGHT
BEGIN:STANDARD
TZOFFSETFROM:+0200
TZOFFSETTO:+0100
TZNAME:CET
DTSTART:20251026T010000
END:STANDARD
END:VTIMEZONE
BEGIN:VEVENT
DTSTART;TZID=Europe/Berlin:20240406T120000
DTEND;TZID=Europe/Berlin:20240407T120000
DTSTAMP:20260421T184835
CREATED:20240312T131742Z
LAST-MODIFIED:20240315T175531Z
UID:443-1712404800-1712491200@fc-pilsum.de
SUMMARY:Unterstand vermietet
DESCRIPTION:
URL:https://fc-pilsum.de/termin/unterstand-vermietet/
LOCATION:Unterstand auf dem Sportplatz
END:VEVENT
BEGIN:VEVENT
DTSTART;TZID=Europe/Berlin:20240407T170000
DTEND;TZID=Europe/Berlin:20240407T190000
DTSTAMP:20260421T184835
CREATED:20240310T132438Z
LAST-MODIFIED:20240315T173501Z
UID:384-1712509200-1712516400@fc-pilsum.de
SUMMARY:Fiev Ührtje
DESCRIPTION:
URL:https://fc-pilsum.de/termin/fiev-uehrtje-2/
LOCATION:Vereinsheim
END:VEVENT
END:VCALENDAR