BEGIN:VCALENDAR
VERSION:2.0
PRODID:-//F.C. „Hoffnung“ Pilsum e.V. - ECPv6.15.16//NONSGML v1.0//EN
CALSCALE:GREGORIAN
METHOD:PUBLISH
X-ORIGINAL-URL:https://fc-pilsum.de
X-WR-CALDESC:Veranstaltungen für F.C. „Hoffnung“ Pilsum e.V.
REFRESH-INTERVAL;VALUE=DURATION:PT1H
X-Robots-Tag:noindex
X-PUBLISHED-TTL:PT1H
BEGIN:VTIMEZONE
TZID:Europe/Berlin
BEGIN:DAYLIGHT
TZOFFSETFROM:+0100
TZOFFSETTO:+0200
TZNAME:CEST
DTSTART:20230326T010000
END:DAYLIGHT
BEGIN:STANDARD
TZOFFSETFROM:+0200
TZOFFSETTO:+0100
TZNAME:CET
DTSTART:20231029T010000
END:STANDARD
BEGIN:DAYLIGHT
TZOFFSETFROM:+0100
TZOFFSETTO:+0200
TZNAME:CEST
DTSTART:20240331T010000
END:DAYLIGHT
BEGIN:STANDARD
TZOFFSETFROM:+0200
TZOFFSETTO:+0100
TZNAME:CET
DTSTART:20241027T010000
END:STANDARD
BEGIN:DAYLIGHT
TZOFFSETFROM:+0100
TZOFFSETTO:+0200
TZNAME:CEST
DTSTART:20250330T010000
END:DAYLIGHT
BEGIN:STANDARD
TZOFFSETFROM:+0200
TZOFFSETTO:+0100
TZNAME:CET
DTSTART:20251026T010000
END:STANDARD
END:VTIMEZONE
BEGIN:VEVENT
DTSTART;TZID=Europe/Berlin:20240402T170000
DTEND;TZID=Europe/Berlin:20240402T180000
DTSTAMP:20260421T184539
CREATED:20240315T180238Z
LAST-MODIFIED:20240315T180239Z
UID:622-1712077200-1712080800@fc-pilsum.de
SUMMARY:Damen Gymnastik
DESCRIPTION:
URL:https://fc-pilsum.de/termin/damen-gymnastik-3/
LOCATION:Sporthalle Greetsiel
END:VEVENT
BEGIN:VEVENT
DTSTART;TZID=Europe/Berlin:20240402T190000
DTEND;TZID=Europe/Berlin:20240402T210000
DTSTAMP:20260421T184539
CREATED:20240318T115007Z
LAST-MODIFIED:20240318T115008Z
UID:768-1712084400-1712091600@fc-pilsum.de
SUMMARY:Fußball Training
DESCRIPTION:
URL:https://fc-pilsum.de/termin/fussball-training-5/
LOCATION:Fußballplatz wechselnd
END:VEVENT
BEGIN:VEVENT
DTSTART;TZID=Europe/Berlin:20240402T190000
DTEND;TZID=Europe/Berlin:20240402T210000
DTSTAMP:20260421T184539
CREATED:20240319T074535Z
LAST-MODIFIED:20240319T074536Z
UID:831-1712084400-1712091600@fc-pilsum.de
SUMMARY:Tischtennis Training
DESCRIPTION:Jugend trainiert ab 17:30 Uhr
URL:https://fc-pilsum.de/termin/tischtennis-training-5/
LOCATION:Turnhalle Greetsiel
END:VEVENT
END:VCALENDAR