BEGIN:VCALENDAR
VERSION:2.0
PRODID:-//F.C. „Hoffnung“ Pilsum e.V. - ECPv6.15.16//NONSGML v1.0//EN
CALSCALE:GREGORIAN
METHOD:PUBLISH
X-WR-CALNAME:F.C. „Hoffnung“ Pilsum e.V.
X-ORIGINAL-URL:https://fc-pilsum.de
X-WR-CALDESC:Veranstaltungen für F.C. „Hoffnung“ Pilsum e.V.
REFRESH-INTERVAL;VALUE=DURATION:PT1H
X-Robots-Tag:noindex
X-PUBLISHED-TTL:PT1H
BEGIN:VTIMEZONE
TZID:Europe/Berlin
BEGIN:DAYLIGHT
TZOFFSETFROM:+0100
TZOFFSETTO:+0200
TZNAME:CEST
DTSTART:20230326T010000
END:DAYLIGHT
BEGIN:STANDARD
TZOFFSETFROM:+0200
TZOFFSETTO:+0100
TZNAME:CET
DTSTART:20231029T010000
END:STANDARD
BEGIN:DAYLIGHT
TZOFFSETFROM:+0100
TZOFFSETTO:+0200
TZNAME:CEST
DTSTART:20240331T010000
END:DAYLIGHT
BEGIN:STANDARD
TZOFFSETFROM:+0200
TZOFFSETTO:+0100
TZNAME:CET
DTSTART:20241027T010000
END:STANDARD
BEGIN:DAYLIGHT
TZOFFSETFROM:+0100
TZOFFSETTO:+0200
TZNAME:CEST
DTSTART:20250330T010000
END:DAYLIGHT
BEGIN:STANDARD
TZOFFSETFROM:+0200
TZOFFSETTO:+0100
TZNAME:CET
DTSTART:20251026T010000
END:STANDARD
END:VTIMEZONE
BEGIN:VEVENT
DTSTART;TZID=Europe/Berlin:20240330T160000
DTEND;TZID=Europe/Berlin:20240331T013000
DTSTAMP:20260421T210452
CREATED:20240310T125821Z
LAST-MODIFIED:20240315T175451Z
UID:362-1711814400-1711848600@fc-pilsum.de
SUMMARY:Osterfeuer
DESCRIPTION:in Zusammenarbeit mit der Freiwilligen Feuerwehr Krummhörn Nord  \n\n\n\nFackellauf für die Kleinen 17 Uhr\, Feuer entzünden ca. 17:30 Uhr
URL:https://fc-pilsum.de/termin/osterfeuer/
LOCATION:Sportplatz
END:VEVENT
END:VCALENDAR